BEGIN:VCALENDAR
VERSION:2.0
PRODID:SchoolNow
CALSCALE:GREGORIAN
BEGIN:VEVENT
UID:20e52be6-4fea-11ed-9fe3-0e84392e8069
DTSTAMP:20221019T201051Z
SUMMARY:5th Gr Field Trip
LOCATION:Chicago Symphony Orchestra\, 220 S Michigan Ave\, Chicago\, IL 606
 04\, USA
URL;VALUE=URI:https://www.op97.org/beye/calendar/3540888/5th-gr-field-trip
DTSTART:20230505T140000Z
DTEND:20230505T170000Z
END:VEVENT
END:VCALENDAR
