BEGIN:VCALENDAR
VERSION:2.0
PRODID:SchoolNow
CALSCALE:GREGORIAN
BEGIN:VEVENT
UID:88963f8e-5ea2-11ed-b993-0e983ea4c9a5
DTSTAMP:20221107T134608Z
SUMMARY:(Beye) 5th Gr Event
LOCATION:Beye School Auditorium
URL;VALUE=URI:https://www.op97.org/beye/calendar/3593976/beye-5th-gr-event
DTSTART:20230608T230000Z
DTEND:20230609T010000Z
END:VEVENT
END:VCALENDAR
