BEGIN:VCALENDAR
VERSION:2.0
PRODID:SchoolNow
CALSCALE:GREGORIAN
BEGIN:VEVENT
UID:3309a950-65ca-11ed-9de3-025f410ff8cb
DTSTAMP:20221116T161743Z
SUMMARY:2nd Gr Field Trip
LOCATION:Oak Park River Forest Museum\, 129 Lake St\, Oak Park\, IL 60302\,
  USA
URL;VALUE=URI:https://www.op97.org/beye/calendar/3612944/2nd-gr-field-trip
DTSTART:20221208T144500Z
DTEND:20221208T194500Z
END:VEVENT
END:VCALENDAR
