BEGIN:VCALENDAR
VERSION:2.0
PRODID:SchoolNow
CALSCALE:GREGORIAN
BEGIN:VEVENT
UID:09e14068-7d5f-11ed-b1cf-0a0e7f7d3f11
DTSTAMP:20230118T212809Z
SUMMARY:2nd Gr Field Trip
LOCATION:Field Museum\, 1400 S Lake Shore Dr\, Chicago\, IL 60605\, USA
URL;VALUE=URI:https://www.op97.org/beye/calendar/3645973/2nd-gr-field-trip
DTSTART:20230214T150000Z
DTEND:20230214T200000Z
END:VEVENT
END:VCALENDAR
