BEGIN:VCALENDAR
VERSION:2.0
PRODID:SchoolNow
CALSCALE:GREGORIAN
BEGIN:VEVENT
UID:d6660e14-7d7f-11ed-9d06-0a3dfcfaf09f
DTSTAMP:20221216T202552Z
SUMMARY:Earth Day Assembly
LOCATION:Beye School Auditorium
URL;VALUE=URI:https://www.op97.org/beye/calendar/3646099/earth-day-assembly
DTSTART:20230406T181500Z
DTEND:20230406T200000Z
END:VEVENT
END:VCALENDAR
