BEGIN:VCALENDAR
VERSION:2.0
PRODID:SchoolNow
CALSCALE:GREGORIAN
BEGIN:VEVENT
UID:024facc2-a339-11ed-9b3e-020e5fea579d
DTSTAMP:20230202T203436Z
SUMMARY:1st Gr FIeld Trip
LOCATION:Hillside Bowl\, 4545 Harrison St\, Hillside\, IL 60162\, USA
URL;VALUE=URI:https://www.op97.org/beye/calendar/3711903/1st-gr-field-trip
DTSTART:20230223T151500Z
DTEND:20230223T174500Z
END:VEVENT
END:VCALENDAR
