BEGIN:VCALENDAR
VERSION:2.0
PRODID:SchoolNow
CALSCALE:GREGORIAN
BEGIN:VEVENT
UID:253709e4-b223-11ed-b9de-0eaad636b54f
DTSTAMP:20230221T200553Z
SUMMARY:2nd Gr Field Trip
LOCATION:Brookfield Zoo\, 8400 W 31st St\, Brookfield\, IL 60513\, USA
URL;VALUE=URI:https://www.op97.org/beye/calendar/3763796/2nd-gr-field-trip
DTSTART:20230523T143000Z
DTEND:20230523T190000Z
END:VEVENT
END:VCALENDAR
