BEGIN:VCALENDAR
VERSION:2.0
PRODID:SchoolNow
CALSCALE:GREGORIAN
BEGIN:VEVENT
UID:b5ffd138-b235-11ed-876f-020944847a2b
DTSTAMP:20230221T221847Z
SUMMARY:2nd Gr Field Trip
LOCATION:Chicago Botanic Garden\, 1000 Lake Cook Rd\, Glencoe\, IL 60022\, 
 USA
URL;VALUE=URI:https://www.op97.org/beye/calendar/3763834/2nd-gr-field-trip
DTSTART:20230502T141500Z
DTEND:20230502T190000Z
END:VEVENT
END:VCALENDAR
