BEGIN:VCALENDAR
VERSION:2.0
PRODID:SchoolNow
CALSCALE:GREGORIAN
BEGIN:VEVENT
UID:e10491f4-b2bf-11ed-991d-020dfb930019
DTSTAMP:20230222T144750Z
SUMMARY:1st Gr End of Year Picnic
LOCATION:Stevenson Park\, 49 Lake St\, Oak Park\, IL 60302\, USA
URL;VALUE=URI:https://www.op97.org/beye/calendar/3767130/1st-gr-end-of-year
 -picnic
DTSTART:20230607T140000Z
DTEND:20230607T190000Z
END:VEVENT
END:VCALENDAR
