BEGIN:VCALENDAR
VERSION:2.0
PRODID:SchoolNow
CALSCALE:GREGORIAN
BEGIN:VEVENT
UID:378ffa9a-b879-11ed-b938-0effee588e93
DTSTAMP:20230301T213708Z
SUMMARY:Beye School Talent Show
LOCATION:Beye School Auditorium
URL;VALUE=URI:https://www.op97.org/beye/calendar/3801769/beye-school-talent
 -show
DTSTART:20230426T223000Z
DTEND:20230427T003000Z
END:VEVENT
END:VCALENDAR
