BEGIN:VCALENDAR
VERSION:2.0
PRODID:SchoolNow
CALSCALE:GREGORIAN
BEGIN:VEVENT
UID:f4f85d1a-b91a-11ed-ac47-0232eb6a4c0f
DTSTAMP:20230302T165454Z
SUMMARY:2nd Gr End of Year Picinc
LOCATION:Andersen Center & Park\, 824 Hayes Ave\, Oak Park\, IL 60302\, USA
URL;VALUE=URI:https://www.op97.org/beye/calendar/3805469/2nd-gr-end-of-year
 -picinc
DTSTART:20230608T140000Z
DTEND:20230608T190000Z
END:VEVENT
END:VCALENDAR
