BEGIN:VCALENDAR
VERSION:2.0
PRODID:SchoolNow
CALSCALE:GREGORIAN
BEGIN:VEVENT
UID:37c635ae-b91b-11ed-9ccc-0232eb6a4c0f
DTSTAMP:20230302T165646Z
SUMMARY:3rd Gr End of Year Picnic
LOCATION:Stevenson Park\, 49 Lake St\, Oak Park\, IL 60302\, USA
URL;VALUE=URI:https://www.op97.org/beye/calendar/3805473/3rd-gr-end-of-year
 -picnic
DTSTART:20230606T140000Z
DTEND:20230606T191500Z
END:VEVENT
END:VCALENDAR
