BEGIN:VCALENDAR
VERSION:2.0
PRODID:SchoolNow
CALSCALE:GREGORIAN
BEGIN:VEVENT
UID:d9379ef0-b91b-11ed-860b-0232eb6a4c0f
DTSTAMP:20230302T170117Z
SUMMARY:4th Gr End of Year Picnic
LOCATION:Stevenson Park\, 49 Lake St\, Oak Park\, IL 60302\, USA
URL;VALUE=URI:https://www.op97.org/beye/calendar/3805474/4th-gr-end-of-year
 -picnic
DTSTART:20230608T140000Z
DTEND:20230608T190000Z
END:VEVENT
END:VCALENDAR
