BEGIN:VCALENDAR
VERSION:2.0
PRODID:SchoolNow
CALSCALE:GREGORIAN
BEGIN:VEVENT
UID:f3dd51f0-b91b-11ed-8740-0232eb6a4c0f
DTSTAMP:20230404T145756Z
SUMMARY:5th Gr End of Year Picnic
LOCATION:Stevenson Park\, 49 Lake St\, Oak Park\, IL 60302\, USA
URL;VALUE=URI:https://www.op97.org/beye/calendar/3805475/5th-gr-end-of-year
 -picnic
DTSTART:20230609T140000Z
DTEND:20230609T190000Z
END:VEVENT
END:VCALENDAR
