BEGIN:VCALENDAR
VERSION:2.0
PRODID:SchoolNow
CALSCALE:GREGORIAN
BEGIN:VEVENT
UID:3d03fc8e-d2f9-11ed-876e-0a34987b7879
DTSTAMP:20230404T145903Z
SUMMARY:Beye School End Of Year Picnic
URL;VALUE=URI:https://www.op97.org/beye/calendar/3982293/beye-school-end-of
 -year-picnic
DTSTART:20230602T220000Z
DTEND:20230603T010000Z
END:VEVENT
END:VCALENDAR
