BEGIN:VCALENDAR
VERSION:2.0
PRODID:SchoolNow
CALSCALE:GREGORIAN
BEGIN:VEVENT
UID:3336b97a-d4bc-11ed-a5ed-0e2ad68e68f7
DTSTAMP:20230406T204709Z
SUMMARY:4th Gr Field Trip
LOCATION:Chicago History Museum\, 1601 N Clark St\, Chicago\, IL 60614\, US
 A
URL;VALUE=URI:https://www.op97.org/beye/calendar/3997895/4th-gr-field-trip
DTSTART:20230526T141500Z
DTEND:20230526T191500Z
END:VEVENT
END:VCALENDAR
