BEGIN:VCALENDAR
VERSION:2.0
PRODID:SchoolNow
CALSCALE:GREGORIAN
BEGIN:VEVENT
UID:7606ead0-d7e2-11ed-bfac-0a40a37fa1ff
DTSTAMP:20230410T205836Z
SUMMARY:5th Gr Field Trip
LOCATION:Chicago Cultural Center & The Art Institute of Chicago
URL;VALUE=URI:https://www.op97.org/beye/calendar/4023110/5th-gr-field-trip
DTSTART:20230526T141500Z
DTEND:20230526T193000Z
END:VEVENT
END:VCALENDAR
