BEGIN:VCALENDAR
VERSION:2.0
PRODID:SchoolNow
CALSCALE:GREGORIAN
BEGIN:VEVENT
UID:1712402c-e040-11ed-b09f-0ea4d28fa7d3
DTSTAMP:20230421T202152Z
SUMMARY:Spring Sing (3rd & 4th Gr)
LOCATION:Beye School Auditorium
URL;VALUE=URI:https://www.op97.org/beye/calendar/4097029/spring-sing-3rd-4t
 h-gr
DTSTART:20230517T233000Z
DTEND:20230518T000000Z
END:VEVENT
END:VCALENDAR
