BEGIN:VCALENDAR
VERSION:2.0
PRODID:SchoolNow
CALSCALE:GREGORIAN
BEGIN:VEVENT
UID:389559aa-e040-11ed-8c31-0ea4d28fa7d3
DTSTAMP:20230421T122955Z
SUMMARY:Spring Sing (K\, 1st & 2nd)
LOCATION:Beye School Auditorium
URL;VALUE=URI:https://www.op97.org/beye/calendar/4097030/spring-sing-k-1st-
 2nd
DTSTART:20230516T230000Z
DTEND:20230517T000000Z
END:VEVENT
END:VCALENDAR
