BEGIN:VCALENDAR
VERSION:2.0
PRODID:SchoolNow
CALSCALE:GREGORIAN
BEGIN:VEVENT
UID:b9475dd2-e040-11ed-b84b-0ea4d28fa7d3
DTSTAMP:20230421T123330Z
SUMMARY:(Beye) 3rd Gr Recruitment Assembly
LOCATION:Beye School Auditorium
URL;VALUE=URI:https://www.op97.org/beye/calendar/4097031/beye-3rd-gr-recrui
 tment-assembly
DTSTART:20230519T190000Z
DTEND:20230519T193000Z
END:VEVENT
END:VCALENDAR
