BEGIN:VCALENDAR
VERSION:2.0
PRODID:SchoolNow
CALSCALE:GREGORIAN
BEGIN:VEVENT
UID:2742063e-e041-11ed-9978-0ea4d28fa7d3
DTSTAMP:20230421T123635Z
SUMMARY:Jazz Band @ Julian (Beye)
LOCATION:Julian Middle School\,  416 S Ridgeland Ave\, Oak Park\, IL 60302\
 , USA
URL;VALUE=URI:https://www.op97.org/beye/calendar/4097032/jazz-band-julian-b
 eye
DTSTART:20230504T234500Z
DTEND:20230505T004500Z
END:VEVENT
END:VCALENDAR
