BEGIN:VCALENDAR
VERSION:2.0
PRODID:SchoolNow
CALSCALE:GREGORIAN
BEGIN:VEVENT
UID:d55f05b2-e2e1-11ed-b068-0223d048cc6f
DTSTAMP:20230424T205149Z
SUMMARY:3rd Gr Field Trip
LOCATION:The Morton Arboretum\, 4100 IL-53\, Lisle\, IL 60532\, USA
URL;VALUE=URI:https://www.op97.org/beye/calendar/4118455/3rd-gr-field-trip
DTSTART:20230515T141500Z
DTEND:20230515T190000Z
END:VEVENT
END:VCALENDAR
