BEGIN:VCALENDAR
VERSION:2.0
PRODID:SchoolNow
CALSCALE:GREGORIAN
BEGIN:VEVENT
UID:d655389c-f4c5-11ed-8497-022d099fe3a1
DTSTAMP:20230517T151906Z
SUMMARY:Bobcat Bolt (PTO Sponsored Fundraiser)
URL;VALUE=URI:https://www.op97.org/beye/calendar/4256646/bobcat-bold-pto-sp
 onsored-fundraiser
DTSTART:20230519T130000Z
DTEND:20230520T045500Z
END:VEVENT
END:VCALENDAR
