BEGIN:VCALENDAR
VERSION:2.0
PRODID:SchoolNow
CALSCALE:GREGORIAN
BEGIN:VEVENT
UID:fb901838-f679-11ed-bfa8-0e1ad06ec4e7
DTSTAMP:20230519T191849Z
SUMMARY:K End of Year Block Party
URL;VALUE=URI:https://www.op97.org/beye/calendar/4269906/k-end-of-year-bloc
 k-party
DTSTART:20230609T131500Z
DTEND:20230609T160000Z
END:VEVENT
END:VCALENDAR
