BEGIN:VCALENDAR
VERSION:2.0
PRODID:SchoolNow
CALSCALE:GREGORIAN
BEGIN:VEVENT
UID:54fbff8e-0c61-11ee-a6e5-02aacb1b1b65
DTSTAMP:20230616T161747Z
SUMMARY:Beye School Picture Day
URL;VALUE=URI:https://www.op97.org/beye/calendar/4398243/beye-school-pictur
 e-day
DTSTART;VALUE=DATE:20230928
DTEND;VALUE=DATE:20230929
END:VEVENT
END:VCALENDAR
