BEGIN:VCALENDAR
VERSION:2.0
PRODID:SchoolNow
CALSCALE:GREGORIAN
BEGIN:VEVENT
UID:9a4f7e76-0c61-11ee-a37b-02aacb1b1b65
DTSTAMP:20230616T161943Z
SUMMARY:Beye Picture Retake Day
URL;VALUE=URI:https://www.op97.org/beye/calendar/4398244/beye-picture-retak
 e-day
DTSTART;VALUE=DATE:20231109
DTEND;VALUE=DATE:20231110
END:VEVENT
END:VCALENDAR
