BEGIN:VCALENDAR
VERSION:2.0
PRODID:SchoolNow
CALSCALE:GREGORIAN
BEGIN:VEVENT
UID:1a72ee26-103b-11ee-a679-0e7482235fa7
DTSTAMP:20230621T140059Z
SUMMARY:Instrument Night (on Zoom)
URL;VALUE=URI:https://www.op97.org/beye/calendar/4417673/instrument-night-o
 n-zoom
DTSTART:20230829T233000Z
DTEND:20230830T003000Z
END:VEVENT
END:VCALENDAR
