BEGIN:VCALENDAR
VERSION:2.0
PRODID:SchoolNow
CALSCALE:GREGORIAN
BEGIN:VEVENT
UID:3a0df064-103b-11ee-9381-0e7482235fa7
DTSTAMP:20230621T135505Z
SUMMARY:Instrument Night @ Julian
URL;VALUE=URI:https://www.op97.org/beye/calendar/4417674/instrument-night-j
 ulian
DTSTART:20230831T233000Z
DTEND:20230901T003000Z
END:VEVENT
END:VCALENDAR
