BEGIN:VCALENDAR
VERSION:2.0
PRODID:SchoolNow
CALSCALE:GREGORIAN
BEGIN:VEVENT
UID:91875024-103b-11ee-b0c0-0e7482235fa7
DTSTAMP:20230822T232931Z
SUMMARY:4th & 5th Gr Field Trip (Beye)
LOCATION:Chicago Symphony Orchestra\, 220 S Michigan Ave\, Chicago\, IL 606
 04\, USA
URL;VALUE=URI:https://www.op97.org/beye/calendar/4417675/4th-5th-gr-field-t
 rip
DTSTART:20231103T141500Z
DTEND:20231103T163000Z
END:VEVENT
END:VCALENDAR
