BEGIN:VCALENDAR
VERSION:2.0
PRODID:SchoolNow
CALSCALE:GREGORIAN
BEGIN:VEVENT
UID:daed0a56-103b-11ee-90fe-0e7482235fa7
DTSTAMP:20230621T140050Z
SUMMARY:D97 Instrumental Music Festival
LOCATION:Oak Park and River Forest High School\, 201 N Scoville Ave\, Oak P
 ark\, IL 60302\, USA
URL;VALUE=URI:https://www.op97.org/beye/calendar/4417676/d97-instrumental-m
 usic-festival
DTSTART;VALUE=DATE:20231107
DTEND;VALUE=DATE:20231108
END:VEVENT
END:VCALENDAR
