BEGIN:VCALENDAR
VERSION:2.0
PRODID:SchoolNow
CALSCALE:GREGORIAN
BEGIN:VEVENT
UID:baaeee98-1433-11ee-9298-0e4d1906bd6b
DTSTAMP:20230626T151643Z
SUMMARY:(Beye) Curriculum Night
URL;VALUE=URI:https://www.op97.org/beye/calendar/4437552/beye-curriculum-ni
 ght
DTSTART:20230830T230000Z
DTEND:20230831T003000Z
END:VEVENT
END:VCALENDAR
