BEGIN:VCALENDAR
VERSION:2.0
PRODID:SchoolNow
CALSCALE:GREGORIAN
BEGIN:VEVENT
UID:e6e14138-16a8-11ee-9e95-02f583e27a7f
DTSTAMP:20230629T181517Z
SUMMARY:1st Trimester Ends
URL;VALUE=URI:https://www.op97.org/beye/calendar/4453485/1st-trimester-ends
DTSTART:20231117T060000Z
DTEND:20231118T055900Z
END:VEVENT
END:VCALENDAR
