BEGIN:VCALENDAR
VERSION:2.0
PRODID:SchoolNow
CALSCALE:GREGORIAN
BEGIN:VEVENT
UID:06341b78-3611-11ee-9b96-027b4a6ebcdd
DTSTAMP:20230808T172844Z
SUMMARY:Beye School Dental Clinic
LOCATION:STEAM Lab
URL;VALUE=URI:https://www.op97.org/beye/calendar/4557847/beye-school-dental
 -clinic
DTSTART:20231024T172800Z
DTEND:20231024T182800Z
END:VEVENT
END:VCALENDAR
