BEGIN:VCALENDAR
VERSION:2.0
PRODID:SchoolNow
CALSCALE:GREGORIAN
BEGIN:VEVENT
UID:2273079a-3611-11ee-bd8a-020e34789605
DTSTAMP:20230808T172931Z
SUMMARY:Beye School Dental Clinic
LOCATION:STEAM Lab
URL;VALUE=URI:https://www.op97.org/beye/calendar/4557848/beye-school-dental
 -clinic
DTSTART:20231025T172900Z
DTEND:20231025T182900Z
END:VEVENT
END:VCALENDAR
