BEGIN:VCALENDAR
VERSION:2.0
PRODID:SchoolNow
CALSCALE:GREGORIAN
BEGIN:VEVENT
UID:149a4dd6-45c0-11ee-ae5a-0a58a9feac02
DTSTAMP:20230828T162937Z
SUMMARY:(Beye) Opera for the Young
URL;VALUE=URI:https://www.op97.org/beye/calendar/4641565/beye-opera-for-the
 -young
DTSTART:20231102T143000Z
DTEND:20231102T190000Z
END:VEVENT
END:VCALENDAR
