BEGIN:VCALENDAR
VERSION:2.0
PRODID:SchoolNow
CALSCALE:GREGORIAN
BEGIN:VEVENT
UID:866dcdda-4768-11ee-84a5-0eb3b53d545f
DTSTAMP:20230830T190755Z
SUMMARY:PTO Membership Mtg & Elections
LOCATION:Beye School Commons
URL;VALUE=URI:https://www.op97.org/beye/calendar/4655969/pto-membership-mtg
 -elections
DTSTART:20230909T150000Z
DTEND:20230909T170000Z
END:VEVENT
END:VCALENDAR
