BEGIN:VCALENDAR
VERSION:2.0
PRODID:SchoolNow
CALSCALE:GREGORIAN
BEGIN:VEVENT
UID:3a50354a-4769-11ee-b58b-0ea0c56c0611
DTSTAMP:20230830T191257Z
SUMMARY:Middle School Band Festival
LOCATION:Oak Park River Forest Highschool
URL;VALUE=URI:https://www.op97.org/beye/calendar/4655983/middle-school-band
 -festival
DTSTART:20231108T010000Z
DTEND:20231108T023000Z
END:VEVENT
END:VCALENDAR
