BEGIN:VCALENDAR
VERSION:2.0
PRODID:SchoolNow
CALSCALE:GREGORIAN
BEGIN:VEVENT
UID:f76f27e8-56f1-11ee-809d-0292f1505fe5
DTSTAMP:20231107T131221Z
SUMMARY:PTO General Meeting/Beye School Math Night
URL;VALUE=URI:https://www.op97.org/beye/calendar/4759232/beye-school-math-n
 ight
DTSTART:20231110T000000Z
DTEND:20231110T013000Z
END:VEVENT
END:VCALENDAR
