BEGIN:VCALENDAR
VERSION:2.0
PRODID:SchoolNow
CALSCALE:GREGORIAN
BEGIN:VEVENT
UID:f61ceca4-638a-11ee-b3a3-021314fd85fd
DTSTAMP:20231009T160403Z
SUMMARY:Kindergarten FIeld Trip
LOCATION:Johansen Farms Children's Zoo & Pumpkin Farm\, 710 W Boughton Rd\,
  Bolingbrook\, IL 60440\, USA
URL;VALUE=URI:https://www.op97.org/beye/calendar/4834068/kindergarten-field
 -trip
DTSTART;VALUE=DATE:20231030
DTEND;VALUE=DATE:20231031
END:VEVENT
END:VCALENDAR
