BEGIN:VCALENDAR
VERSION:2.0
PRODID:SchoolNow
CALSCALE:GREGORIAN
BEGIN:VEVENT
UID:93b43660-8da2-11ef-aea3-0affcef45e3f
DTSTAMP:20241018T224447Z
SUMMARY:5th Gr Field Trip (Beye)
LOCATION:DuSable Museum\, 740 E 56th Pl\, Chicago\, IL 60637
URL;VALUE=URI:https://www.op97.org/beye/calendar/6852868/5th-gr-field-trip-
 beye
DTSTART:20250207T150000Z
DTEND:20250207T181500Z
END:VEVENT
END:VCALENDAR
