BEGIN:VCALENDAR
VERSION:2.0
PRODID:SchoolNow
CALSCALE:GREGORIAN
BEGIN:VEVENT
UID:33b86176-5669-11ee-9007-0a58a9feac02
DTSTAMP:20230918T212033Z
SUMMARY:Board Meeting
URL;VALUE=URI:https://www.op97.org/boe/calendar/4756750/board-meeting
DTSTART:20240814T000000Z
DTEND:20240814T045900Z
END:VEVENT
END:VCALENDAR
