BEGIN:VCALENDAR
VERSION:2.0
PRODID:SchoolNow
CALSCALE:GREGORIAN
BEGIN:VEVENT
UID:c20be570-ba26-11ea-b467-1284b9ea766f
DTSTAMP:20200915T154955Z
SUMMARY:End of Trimester 2
URL;VALUE=URI:https://www.op97.org/brooks/calendar/2270630/end-of-trimester
 -2
DTSTART;VALUE=DATE:20210312
DTEND;VALUE=DATE:20210313
END:VEVENT
END:VCALENDAR
