BEGIN:VCALENDAR
VERSION:2.0
PRODID:SchoolNow
CALSCALE:GREGORIAN
BEGIN:VEVENT
UID:eb8ab87c-ba26-11ea-b0b6-1284b9ea766f
DTSTAMP:20200629T163811Z
SUMMARY:No School - Memorial Day
URL;VALUE=URI:https://www.op97.org/brooks/calendar/2270650/no-school-memori
 al-day
DTSTART;VALUE=DATE:20210531
DTEND;VALUE=DATE:20210601
END:VEVENT
END:VCALENDAR
