BEGIN:VCALENDAR
VERSION:2.0
PRODID:SchoolNow
CALSCALE:GREGORIAN
BEGIN:VEVENT
UID:6a543958-2390-11eb-b21d-0a2c95d0af3b
DTSTAMP:20201110T201052Z
SUMMARY:Spring Break - No School
URL;VALUE=URI:https://www.op97.org/brooks/calendar/2493898/spring-break-no-
 school-2021
DTSTART;VALUE=DATE:20210329
DTEND;VALUE=DATE:20210403
END:VEVENT
END:VCALENDAR
