BEGIN:VCALENDAR
VERSION:2.0
PRODID:SchoolNow
CALSCALE:GREGORIAN
BEGIN:VEVENT
UID:47a6b2da-2392-11eb-b8a6-0a5c5080b48d
DTSTAMP:20210405T163707Z
SUMMARY:No School - Election Day
URL;VALUE=URI:https://www.op97.org/brooks/calendar/2493909/no-school-profes
 sional-development-day
DTSTART;VALUE=DATE:20210406
DTEND;VALUE=DATE:20210407
END:VEVENT
END:VCALENDAR
