BEGIN:VCALENDAR
VERSION:2.0
PRODID:SchoolNow
CALSCALE:GREGORIAN
BEGIN:VEVENT
UID:eb87fc26-de89-11eb-882b-028e8b05d9dd
DTSTAMP:20210706T184230Z
SUMMARY:No School- Labor Day
URL;VALUE=URI:https://www.op97.org/brooks/calendar/2635314/no-school-labor-
 day-090621
DTSTART;VALUE=DATE:20210906
DTEND;VALUE=DATE:20210907
END:VEVENT
END:VCALENDAR
