BEGIN:VCALENDAR
VERSION:2.0
PRODID:SchoolNow
CALSCALE:GREGORIAN
BEGIN:VEVENT
UID:df1ae9b8-de97-11eb-994d-0a86142f0b85
DTSTAMP:20210707T134844Z
SUMMARY:No School - Indigenous Peoples' Day
URL;VALUE=URI:https://www.op97.org/brooks/calendar/2635487/no-school-indige
 nous-peoples-day-101121
DTSTART;VALUE=DATE:20211011
DTEND;VALUE=DATE:20211012
END:VEVENT
END:VCALENDAR
