BEGIN:VCALENDAR
VERSION:2.0
PRODID:SchoolNow
CALSCALE:GREGORIAN
BEGIN:VEVENT
UID:ba5bf3ca-8509-11f0-b094-0e1334b9292f
DTSTAMP:20260421T162511Z
SUMMARY:Bravo Advisory Board (BAB) Meeting
LOCATION:3RD FLOOR MEDIA CENTER
URL;VALUE=URI:https://www.op97.org/brooks/calendar/8558643/bravo-advisory-b
 oard-bab-meeting
DTSTART:20260212T010000Z
DTEND:20260212T023000Z
END:VEVENT
END:VCALENDAR
