BEGIN:VCALENDAR
VERSION:2.0
PRODID:SchoolNow
CALSCALE:GREGORIAN
BEGIN:VEVENT
UID:ba5bf55a-8509-11f0-9e4f-0e1334b9292f
DTSTAMP:20260421T102011Z
SUMMARY:Bravo Advisory Board (BAB) Meeting
LOCATION:3RD FLOOR MEDIA CENTER
URL;VALUE=URI:https://www.op97.org/brooks/calendar/8558644/bravo-advisory-b
 oard-bab-meeting
DTSTART:20260312T000000Z
DTEND:20260312T013000Z
END:VEVENT
END:VCALENDAR
