BEGIN:VCALENDAR
VERSION:2.0
PRODID:SchoolNow
CALSCALE:GREGORIAN
BEGIN:VEVENT
UID:ba5bf88e-8509-11f0-a69b-0e1334b9292f
DTSTAMP:20260421T102011Z
SUMMARY:Bravo Advisory Board (BAB) Meeting
LOCATION:3RD FLOOR MEDIA CENTER
URL;VALUE=URI:https://www.op97.org/brooks/calendar/8558646/bravo-advisory-b
 oard-bab-meeting
DTSTART:20260521T000000Z
DTEND:20260521T013000Z
END:VEVENT
END:VCALENDAR
